Workbook

Sheet 300
A1: Southern Provincial Council
A2: Deposit Account CSS/9/5/FO/1
A3: Head Summary 2026
A4: Name of Institution: | C4: Governor's Secretariat, | E4: Head 300
B7: Month | C7: Description | D7: Dr. | E7: Cr.
B8: 2026.01.01 | C8: Balance B/F | E8: 159780.31
B9: January | C9: Summary | D9: 33020.31 | E9: 1150
B10: February | C10: Summary | D10: 0 | E10: 1175
B11: March | C11: Summary | D11: 72800 | E11: 74025
B12: April | C12: Summary | D12: 522288.36 | E12: 554413.36
B13: May | C13: Summary | D13: 0 | E13: 143269.13
B14: June | C14: Summary | D14: 0 | E14: 24450
B15: July | C15: Summary | D15: 4125 | E15: 29725
B16: August | C16: Summary | D16: 0 | E16: 68670
B17: September | C17: Summary | D17: 0 | E17: 63635
B18: October | C18: Summary
B19: November | C19: Summary
B20: December | C20: Summary
B21: Transfer order
B23: 2026.12.31 Balance C/F | D23: =D24-SUM(D8:D22) -> 488059.13 | E23: -
B24: Grand Total | D24: =IF(SUM(E8:E22)>SUM(D8:D22),SUM(E8:E22),SUM(D8:D22)) -> 1120292.8 | E24: =IF(SUM(F8:F22)>SUM(E8:E22),SUM(F8:F22),SUM(E8:E22)) -> 1120292.8
B25: 2027..01.01 Balance B/F | D25: - | E25: =D23 -> 488059.13
A29: Prepared by :-
A30: Checked by :- | D30: P.P.D.Samantha
A31: Date :- | B31: 31.01.2026 | D31: Director of Accounts & Payments ,
D32: For Chief Secretary,
D33: Southern province.
A39: ISSue No:01 | C39: Rev No:00 | E39: DOI:2012.10.01

Sheet 301
A1: Southern Provincial Council
A2: Deposit Account CSS/9/5/FO/1
A3: Head Summary 2026
A4: Name of Institution: | C4: Southern Provincial Council | E4: Head 301
B7: Month | C7: Description | D7: Dr. | E7: Cr.
B8: 2026.01.01 | C8: Balance B/F | E8: 240545
B9: January | C9: Summary | D9: 22450 | E9: 750
B10: February | C10: Summary | D10: 0 | E10: 800
B11: March | C11: Summary | D11: 2350 | E11: 9257
B12: April | C12: Summary | D12: 40000 | E12: 800
B13: May | C13: Summary | D13: 39000 | E13: 800
B14: June | C14: Summary | D14: 22400 | E14: 800
B15: July | C15: Summary | D15: 20000 | E15: 800
B16: August | C16: Summary | D16: 0 | E16: 800
B17: September | C17: Summary | D17: 0 | E17: 800
B18: October | C18: Summary
B19: November | C19: Summary
B20: December | C20: Summary
B21: Transfer order
B23: 2025.12.31 Balance C/F | D23: =D24-SUM(D8:D22) -> 109952 | E23: =E24-SUM(E8:E22) -> 0
B24: Grand Total | D24: =IF(SUM(E8:E22)>SUM(D8:D22),SUM(E8:E22),SUM(D8:D22)) -> 256152 | E24: =IF(SUM(F8:F22)>SUM(E8:E22),SUM(F8:F22),SUM(E8:E22)) -> 256152
B25: 2026.01.01 Balance B/F | D25: =E23 -> 0 | E25: =D23 -> 109952
A29: Prepared by :-
A30: Checked by :- | D30: P.P.D.Samantha
A31: Date :- | B31: 31.01.2026 | D31: Director of Accounts & Payments ,
D32: For Chief Secretary,
D33: Southern province.
A39: ISSue No:01 | C39: Rev No:00 | E39: DOI:2012.10.01

Sheet 302
A1: Southern Provincial Council
A2: Deposit Account CSS/9/5/FO/1
A3: Head Summary 2026
A4: Name of Institution: | C4: Southern Province Public Service Commission | E4: Head 302
C5: Commission
B7: Month | C7: Description | D7: Dr. | E7: Cr.
B8: 2026.01.01 | C8: Balance B/F | E8: 49616.38
B9: January | C9: Summary | D9: 0 | E9: 800
B10: February | C10: Summary | D10: 15000 | E10: 825
B11: March | C11: Summary | D11: 12000 | E11: 850
B12: April | C12: Summary | D12: 2475 | E12: 850
B13: May | C13: Summary | D13: 1000 | E13: 2235
B14: June | C14: Summary | D14: 0 | E14: 825
B15: July | C15: Summary | D15: 2500 | E15: 825
B16: August | C16: Summary | D16: 12000 | E16: 825
B17: September | C17: Summary | D17: 0 | E17: 5230.8
B18: October | C18: Summary
B19: November | C19: Summary
B20: December | C20: Summary
B21: Transfer order
B23: 2025.12.31 Balance C/F | D23: =D24-SUM(D8:D22) -> 17907.18 | E23: =E24-SUM(E8:E22) -> 0
B24: Grand Total | D24: =IF(SUM(E8:E22)>SUM(D8:D22),SUM(E8:E22),SUM(D8:D22)) -> 62882.18 | E24: =IF(SUM(F8:F22)>SUM(E8:E22),SUM(F8:F22),SUM(E8:E22)) -> 62882.18
B25: 2026.01.01 Balance B/F | D25: =E23 -> 0 | E25: =D23 -> 17907.18
A29: Prepared by :-
A30: Checked by :- | D30: P.P.D.Samantha
A31: Date :- | B31: 31.01.2026 | D31: Director of Accounts & Payments ,
D32: For Chief Secretary,
D33: Southern province.
A39: ISSue No:01 | C39: Rev No:00 | E39: DOI:2012.10.01

Sheet 303
A1: Southern Provincial Council
A2: Deposit Account CSS/9/5/FO/1
A3: Head Summary 2026
A4: Name of Institution: | C4: Co-Op Employees | E4: Head 303
C5: Commission
B7: Month | C7: Description | D7: Dr. | E7: Cr.
B8: 2026.01.01 | C8: Balance B/F | E8: 0
B9: January | C9: Summary | D9: 0 | E9: 250
B10: February | C10: Summary | D10: 0 | E10: 275
B11: March | C11: Summary | D11: 0 | E11: 275
B12: April | C12: Summary | D12: 800 | E12: 250
B13: May | C13: Summary | D13: 0 | E13: 225
B14: June | C14: Summary | D14: 0 | E14: 225
B15: July | C15: Summary | D15: 700 | E15: 225
B16: August | C16: Summary | D16: 0 | E16: 225
B17: September | C17: Summary | D17: 675 | E17: 225
B18: October | C18: Summary
B19: November | C19: Summary
B20: December | C20: Summary
B21: Transfer order
B23: 2026.12.31 Balance C/F | D23: =D24-SUM(D8:D22) -> 0 | E23: =E24-SUM(E8:E22) -> 0
B24: Grand Total | D24: =IF(SUM(E8:E22)>SUM(D8:D22),SUM(E8:E22),SUM(D8:D22)) -> 2175 | E24: =IF(SUM(F8:F22)>SUM(E8:E22),SUM(F8:F22),SUM(E8:E22)) -> 2175 | O24: 0
B25: 2027.01.01 Balance B/F | D25: =E23 -> 0 | E25: =D23 -> 0
A29: Prepared by :-
A30: Checked by :- | D30: P.P.D.Samantha
A31: Date :- | B31: 31.01.2026 | D31: Director of Accounts & Payments ,
D32: For Chief Secretary,
D33: Southern province.
A39: ISSue No:01 | C39: Rev No:00 | E39: DOI:2012.10.01

Sheet 304
A1: Southern Provincial Council
A2: Deposit Account CSS/9/5/FO/1
A3: Head Summary 2026
A4: Name of Institution: | C4: Chief Minister & finance, plan…. | E4: Head 304
C5: Implementation ,Health.,Ministry
B7: Month | C7: Description | D7: Dr. | E7: Cr.
B8: 2026.01.01 | C8: Balance B/F | E8: 26000568
B9: January | C9: Summary | D9: 2215854.9 | E9: 67174.5
B10: February | C10: Summary | D10: 188337.5 | E10: 80285
B11: March | C11: Summary | D11: 4303527.8 | E11: 585349.74
B12: April | C12: Summary | D12: 663095.28 | E12: 2589282.5
B13: May | C13: Summary | D13: 3551453.2 | E13: 263867.06
B14: June | C14: Summary | D14: 1039383.8 | E14: 1526911.6
B15: July | C15: Summary | D15: 2174033.5 | E15: 694743.87
B16: August | C16: Summary | D16: 953578.86 | E16: 1167511.1
B17: September | C17: Summary | D17: 850242.34 | E17: 2869967.5
B18: October | C18: Summary
B19: November | C19: Summary
B20: December | C20: Summary
B21: Transfer order
B23: 2026.12.31 Balance C/F | D23: =D24-SUM(D8:D22) -> 19906153 | E23: =E24-SUM(E8:E22) -> 0
B24: Grand Total | D24: =IF(SUM(E8:E22)>SUM(D8:D22),SUM(E8:E22),SUM(D8:D22)) -> 35845660 | E24: =IF(SUM(F8:F22)>SUM(E8:E22),SUM(F8:F22),SUM(E8:E22)) -> 35845660
B25: 2027.01.01 Balance B/F | D25: =E23 -> 0 | E25: =D23 -> 19906153
A29: Prepared by :-
A30: Checked by :- | D30: P.P.D.Samantha
A31: Date :- | B31: 31.01.2026 | D31: Director of Accounts & Payments ,
D32: For Chief Secretary,
D33: Southern province.
A39: ISSue No:01 | C39: Rev No:00 | E39: DOI:2012.10.01

Sheet 305
A1: Southern Provincial Council
A2: Deposit Account CSS/9/5/FO/1
A3: Head Summary 2026
A4: Name of Institution: | C4: Department of Health Services | E4: Head 305
B7: Month | C7: Description | D7: Dr. | E7: Cr.
B8: 2026.01.01 | C8: Balance B/F | E8: 65746055 | H8: 65746055
B9: January | C9: Summary | D9: 49368782 | E9: 57602999
B10: February | C10: Summary | D10: 80088076 | E10: 1.0257137e+08
B11: March | C11: Summary | D11: 1.3287742e+08 | E11: 1.0981255e+08
B12: April | C12: Summary | D12: 24112080 | E12: 30319367
B13: May | C13: Summary | D13: 1.0568001e+08 | E13: 1.0692948e+08
B14: June | C14: Summary | D14: 88950929 | E14: 81577309
B15: July | C15: Summary | D15: 1.303715e+08 | E15: 1.3120663e+08
B16: August | C16: Summary | D16: 79390421 | E16: 75908547
B17: September | C17: Summary | D17: 1.4784447e+08 | E17: 1.5731636e+08
B18: October | C18: Summary
B19: November | C19: Summary
B20: December | C20: Summary
B21: Transfer order
B23: 2026.12.31 Balance C/F | D23: =D24-SUM(D8:D22) -> 80306977 | E23: =E24-SUM(E8:E22) -> 0
B24: Grand Total | D24: =IF(SUM(E8:E22)>SUM(D8:D22),SUM(E8:E22),SUM(D8:D22)) -> 9.1899066e+08 | E24: =IF(SUM(F8:F22)>SUM(E8:E22),SUM(F8:F22),SUM(E8:E22)) -> 9.1899066e+08
B25: 2027.01.01 Balance B/F | D25: =E23 -> 0 | E25: =D23 -> 80306977
A29: Prepared by :-
A30: Checked by :- | D30: P.P.D.Samantha
A31: Date :- | B31: 31.01.2026 | D31: Director of Accounts & Payments ,
D32: For Chief Secretary,
D33: Southern province.
A39: ISSue No:01 | C39: Rev No:00 | E39: DOI:2012.10.01

Sheet 306
A1: Southern Provincial Council
A2: Deposit Account CSS/9/5/FO/1
A3: Head Summary 2026
A4: Name of Institution: | C4: Local Government | E4: Head 306
B7: Month | C7: Description | D7: Dr. | E7: Cr.
B8: 2026.01.01 | C8: Balance B/F | E8: 4695484.7 | H8: 4695484.7
B9: January | C9: Summary | D9: 12302708 | E9: 13648479
B10: February | C10: Summary | D10: 12509172 | E10: 11487975
B11: March | C11: Summary | D11: 3724850 | E11: 1064875
B12: April | C12: Summary | D12: 2272797.6 | E12: 2272442.4
B13: May | C13: Summary | D13: 208254.87 | E13: 4450
B14: June | C14: Summary | D14: 32898634 | E14: 32755358
B15: July | C15: Summary | D15: 87189.14 | E15: 421568.96
B16: August | C16: Summary | D16: 22572466 | E16: 22294600
B17: September | C17: Summary | D17: 8085242.8 | E17: 8712807.9
B18: October | C18: Summary
B19: November | C19: Summary
B20: December | C20: Summary
B21: Transfer order
B23: 2026.12.31 Balance C/F | D23: =D24-SUM(D8:D22) -> 2696727.1 | E23: =E24-SUM(E8:E22) -> 0
B24: Grand Total | D24: =IF(SUM(E8:E22)>SUM(D8:D22),SUM(E8:E22),SUM(D8:D22)) -> 97358042 | E24: =IF(SUM(F8:F22)>SUM(E8:E22),SUM(F8:F22),SUM(E8:E22)) -> 97358042
B25: 2027.01.01 Balance B/F | D25: =E23 -> 0 | E25: =D23 -> 2696727.1
A29: Prepared by :-
A30: Checked by :- | D30: P.P.D.Samantha
A31: Date :- | B31: 31.01.2026 | D31: Director of Accounts & Payments ,
D32: For Chief Secretary,
D33: Southern province.
A39: ISSue No:01 | C39: Rev No:00 | E39: DOI:2012.10.01

Sheet 307
A1: Southern Provincial Council
A2: Deposit Account CSS/9/5/FO/1
A3: Head Summary 2026
A4: Name of Institution: | C4: Ayurvedic | E4: Head 307
B7: Month | C7: Description | D7: Dr. | E7: Cr.
B8: 2026.01.01 | C8: Balance B/F | E8: 9653777.6
B9: January | C9: Summary | D9: 348205.5 | E9: 355573.75
B10: February | C10: Summary | D10: 280140.38 | E10: 4096225.8
B11: March | C11: Summary | D11: 1380913.6 | E11: 916250
B12: April | C12: Summary | D12: 844566.75 | E12: 1273335.5
B13: May | C13: Summary | D13: 1967072.9 | E13: 1122291
B14: June | C14: Summary | D14: 935532.99 | E14: 1571425
B15: July | C15: Summary | D15: 1589413.1 | E15: 885293.81
B16: August | C16: Summary | D16: 1805482.6 | E16: 940955.97
B17: September | C17: Summary | D17: 1623835.1 | E17: 960505.62
B18: October | C18: Summary
B19: November | C19: Summary
B20: December | C20: Summary
B21: Transfer order
B23: 2026.12.31 Balance C/F | D23: =D24-SUM(D8:D22) -> 11000471 | E23: =E24-SUM(E8:E22) -> 0
B24: Grand Total | D24: =IF(SUM(E8:E22)>SUM(D8:D22),SUM(E8:E22),SUM(D8:D22)) -> 21775634 | E24: =IF(SUM(F8:F22)>SUM(E8:E22),SUM(F8:F22),SUM(E8:E22)) -> 21775634
B25: 2027.01.01 Balance B/F | D25: =E23 -> 0 | E25: =D23 -> 11000471
A29: Prepared by :-
A30: Checked by :- | D30: P.P.D.Samantha
A31: Date :- | B31: 31.01.2026 | D31: Director of Accounts & Payments ,
D32: For Chief Secretary,
D33: Southern province.
A39: ISSue No:01 | C39: Rev No:00 | E39: DOI:2012.10.01

Sheet 308
A1: Southern Provincial Council
A2: Deposit Account CSS/9/5/FO/1
A3: Head Summary 2026
A4: Name of Institution: | C4: Minister of Education,Land,Land development….. | E4: Head 308
B7: Month | C7: Description | D7: Dr. | E7: Cr.
B8: 2025.01.01 | C8: Balance B/F | E8: 84127062
B9: January | C9: Summary | D9: 2644318.5 | E9: 676025
B10: February | C10: Summary | D10: 2114809.3 | E10: 476525
B11: March | C11: Summary | D11: 2337265.4 | E11: 661110.16
B12: April | C12: Summary | D12: 7525038.6 | E12: 2112876.1
B13: May | C13: Summary | D13: 6382870.3 | E13: 3665473.5
B14: June | C14: Summary | D14: 5361649.8 | E14: 3773040.7
B15: July | C15: Summary | D15: 9185988.2 | E15: 7411660.5
B16: August | C16: Summary | D16: 2916403.1 | E16: 7144045
B17: September | C17: Summary | D17: 9361563.8 | E17: 8694428.7
B18: October | C18: Summary
B19: November | C19: Summary
B20: December | C20: Summary
B21: Transfer order
B23: 2025.12.31 Balance C/F | D23: =D24-SUM(D8:D22) -> 70912340 | E23: =E24-SUM(E8:E22) -> 0
B24: Grand Total | D24: =IF(SUM(E8:E22)>SUM(D8:D22),SUM(E8:E22),SUM(D8:D22)) -> 1.1874225e+08 | E24: =IF(SUM(F8:F22)>SUM(E8:E22),SUM(F8:F22),SUM(E8:E22)) -> 1.1874225e+08
B25: 2026.01.01 Balance B/F | D25: =E23 -> 0 | E25: =D23 -> 70912340
A29: Prepared by :-
A30: Checked by :- | D30: P.P.D.Samantha
A31: Date :- | B31: 31.01.2026 | D31: Director of Accounts & Payments ,
D32: For Chief Secretary,
D33: Southern province.
A39: ISSue No:01 | C39: Rev No:00 | E39: DOI:2012.10.01

Sheet 309
A1: Southern Provincial Council
A2: Deposit Account CSS/9/5/FO/1
A3: Head Summary 2026
A4: Name of Institution: | C4: Land Commissinor | E4: Head 309
B7: Month | C7: Description | D7: Dr. | E7: Cr.
B8: 2026.01.01 | C8: Balance B/F | E8: 14983.3
B9: January | C9: Summary | D9: 0 | E9: 5250
B10: February | C10: Summary | D10: 0 | E10: 111300
B11: March | C11: Summary | D11: 15900 | E11: 5350
B12: April | C12: Summary | D12: 0 | E12: 6000
B13: May | C13: Summary | D13: 0 | E13: 55925
B14: June | C14: Summary | D14: 0 | E14: 75950
B15: July | C15: Summary | D15: 15625 | E15: 5225
B16: August | C16: Summary | D16: 20000 | E16: 6650
B17: September | C17: Summary | D17: 30533.3 | E17: 105925
B18: October | C18: Summary
B19: November | C19: Summary
B20: December | C20: Summary
B21: Transfer order
B23: 2026.12.31 Balance C/F | D23: =D24-SUM(D8:D22) -> 310500 | E23: =E24-SUM(E8:E22) -> 0
B24: Grand Total | D24: =IF(SUM(E8:E22)>SUM(D8:D22),SUM(E8:E22),SUM(D8:D22)) -> 392558.3 | E24: =IF(SUM(F8:F22)>SUM(E8:E22),SUM(F8:F22),SUM(E8:E22)) -> 392558.3
B25: 2027.01.01 Balance B/F | D25: =E23 -> 0 | E25: =D23 -> 310500
A29: Prepared by :-
A30: Checked by :- | D30: P.P.D.samantha
A31: Date :- | B31: 31.01.2026 | D31: Director of Accounts & Payments ,
D32: For Chief Secretary,
D33: Southern province.
A39: ISSue No:01 | C39: Rev No:00 | E39: DOI:2012.10.01

Sheet 310
A1: Southern Provincial Council
A2: Deposit Account CSS/9/5/FO/1
A3: Head Summary 2026
A4: Name of Institution: | C4: Department of Education | E4: Head 310
B7: Month | C7: Description | D7: Dr. | E7: Cr.
B8: 2026.01.01 | C8: Balance B/F | E8: 11218906
B9: January | C9: Summary | D9: 1148843 | E9: 4664993.9
B10: February | C10: Summary | D10: 4670049.6 | E10: 2635855.2
B11: March | C11: Summary | D11: 5840775.9 | E11: 4698972.8
B12: April | C12: Summary | D12: 2119576.6 | E12: 2211462.4
B13: May | C13: Summary | D13: 1902591.1 | E13: 1969861.5
B14: June | C14: Summary | D14: 2814220.1 | E14: 4486369.7
B15: July | C15: Summary | D15: 4342071.6 | E15: 3792641.5
B16: August | C16: Summary | D16: 2189153.6 | E16: 3311365.6
B17: September | C17: Summary | D17: 3200426.8 | E17: 5180838.1
B18: October | C18: Summary
B19: November | C19: Summary
B20: December | C20: Summary
B21: Transfer order
B23: 2026.12.31 Balance C/F | D23: =D24-SUM(D8:D22) -> 15943558 | E23: =E24-SUM(E8:E22) -> 0
B24: Grand Total | D24: =IF(SUM(E8:E22)>SUM(D8:D22),SUM(E8:E22),SUM(D8:D22)) -> 44171266 | E24: =IF(SUM(F8:F22)>SUM(E8:E22),SUM(F8:F22),SUM(E8:E22)) -> 44171266
B25: 2027.01.01 Balance B/F | D25: =E23 -> 0 | E25: =D23 -> 15943558
A29: Prepared by :-
A30: Checked by :- | D30: P.P.D.Samantha
A31: Date :- | B31: 31.01.2026 | D31: Director of Accounts & Payments ,
D32: For Chief Secretary,
D33: Southern province.
A39: ISSue No:01 | C39: Rev No:00 | E39: DOI:2012.10.01

Sheet 311
A1: Southern Provincial Council
A2: Deposit Account CSS/9/5/FO/1
A3: Head Summary 2025
A4: Name of Institution: | C4: Minister of Fisheries,Cultural, | E4: Head | F4: 311
C5: Supply&Disrtibution of Food…...
B7: Month | C7: Description | D7: Dr. | E7: Cr.
B8: 2026.01.01 | C8: Balance B/F | E8: 53576723
B9: January | C9: Summary | D9: 40000 | E9: 135969
B10: February | C10: Summary | D10: 11043215 | E10: 32100
B11: March | C11: Summary | D11: 474173.52 | E11: 329253.72
B12: April | C12: Summary | D12: 4841273.2 | E12: 444748.76
B13: May | C13: Summary | D13: 2372197.8 | E13: 1038448.1
B14: June | C14: Summary | D14: 657576.31 | E14: 98800.69
B15: July | C15: Summary | D15: 290020.88 | E15: 106675
B16: August | C16: Summary | D16: 8753712 | E16: 1096787.5
B17: September | C17: Summary | D17: 262805.46 | E17: 241362.35
B18: October | C18: Summary
B19: November | C19: Summary
B20: December | C20: Summary
B21: Transfer order
B23: 2026.12.31 Balance C/F | D23: =D24-SUM(D8:D22) -> 28365894 | E23: =E24-SUM(E8:E22) -> 0
B24: Grand Total | D24: =IF(SUM(E8:E22)>SUM(D8:D22),SUM(E8:E22),SUM(D8:D22)) -> 57100868 | E24: =IF(SUM(F8:F22)>SUM(E8:E22),SUM(F8:F22),SUM(E8:E22)) -> 57100868
B25: 2027.01.01 Balance B/F | D25: =E23 -> 0 | E25: =D23 -> 28365894
A29: Prepared by :-
A30: Checked by :- | D30: P.P.D.Samantha
A31: Date :- | B31: 31.01.2026 | D31: Director of Accounts & Payments ,
D32: For Chief Secretary,
D33: Southern province.
A39: ISSue No:01 | C39: Rev No:00 | E39: DOI:2012.10.01

Sheet 312
A1: Southern Provincial Council
A2: Deposit Account CSS/9/5/FO/1
A3: Head Summary 2026
A4: Name of Institution: | C4: Department of Animal Production & Health | E4: Head | F4: 312
B7: Month | C7: Description | D7: Dr. | E7: Cr.
B8: 2026.01.01 | C8: Balance B/F | E8: 6899210.2
B9: January | C9: Summary | D9: 607382.77 | E9: 656264.12
B10: February | C10: Summary | D10: 4241987.3 | E10: 4191754
B11: March | C11: Summary | D11: 1210064 | E11: 434958.33
B12: April | C12: Summary | D12: 880432.91 | E12: 588884.37
B13: May | C13: Summary | D13: 1153208.4 | E13: 928913.25
B14: June | C14: Summary | D14: 1241848.1 | E14: 1323205.2
B15: July | C15: Summary | D15: 817459.44 | E15: 2083429.7
B16: August | C16: Summary | D16: 7292389.6 | E16: 6014193.3
B17: September | C17: Summary | D17: 6229281.5 | E17: 6177294.7
B18: October | C18: Summary
B19: November | C19: Summary
B20: December | C20: Summary
B21: Transfer order
B23: 2026.12.31 Balance C/F | D23: =D24-SUM(D8:D22) -> 5624053.1 | E23: =E24-SUM(E8:E22) -> 0
B24: Grand Total | D24: =IF(SUM(E8:E22)>SUM(D8:D22),SUM(E8:E22),SUM(D8:D22)) -> 29298107 | E24: =IF(SUM(F8:F22)>SUM(E8:E22),SUM(F8:F22),SUM(E8:E22)) -> 29298107
B25: 2027.01.01 Balance B/F | D25: =E23 -> 0 | E25: =D23 -> 5624053.1
A29: Prepared by :-
A30: Checked by :- | D30: P.P.D.Samantha
A31: Date :- | B31: 31.01.2026 | D31: Director of Accounts & Payments ,
D32: For Chief Secretary,
D33: Southern province.
A39: ISSue No:01 | C39: Rev No:00 | E39: DOI:2012.10.01

Sheet 313
A1: Southern Provincial Council
A2: Deposit Account CSS/9/5/FO/1
A3: Head Summary 2026
A4: Name of Institution: | C4: Department of Industry | E4: Head | F4: 313
C5: Development
B7: Month | C7: Description | D7: Dr. | E7: Cr.
B8: 2026.01.01 | C8: Balance B/F | E8: 12699240
B9: January | C9: Summary | D9: 9552194.4 | E9: 9641285.3
B10: February | C10: Summary | D10: 1501058.5 | E10: 148125
B11: March | C11: Summary | D11: 4625266.8 | E11: 6073540.2
B12: April | C12: Summary | D12: 7268574.7 | E12: 5373756.1
B13: May | C13: Summary | D13: 5697507.7 | E13: 6545572.9
B14: June | C14: Summary | D14: 1984646.8 | E14: 1850351.5
B15: July | C15: Summary | D15: 2009765.8 | E15: 1175652.5
B16: August | C16: Summary | D16: 4979649.1 | E16: 2416769.2
B17: September | C17: Summary | D17: 2745106 | E17: 2640146.8
B18: October | C18: Summary
B19: November | C19: Summary
B20: December | C20: Summary
B21: Transfer order
B23: 2026.12.31 Balance C/F | D23: =D24-SUM(D8:D22) -> 8200670.1 | E23: =E24-SUM(E8:E22) -> 0
B24: Grand Total | D24: =IF(SUM(E8:E22)>SUM(D8:D22),SUM(E8:E22),SUM(D8:D22)) -> 48564440 | E24: =IF(SUM(F8:F22)>SUM(E8:E22),SUM(F8:F22),SUM(E8:E22)) -> 48564440
B25: 2027.01.01 Balance B/F | D25: =E23 -> 0 | E25: =D23 -> 8200670.1
A29: Prepared by :-
A30: Checked by :- | D30: P.P.D.Samantha
A31: Date :- | B31: 31.01.2026 | D31: Director of Accounts & Payments ,
D32: For Chief Secretary,
D33: Southern province.
A39: ISSue No:01 | C39: Rev No:00 | E39: DOI:2012.10.01

Sheet 314
A1: Southern Provincial Council
A2: Deposit Account CSS/9/5/FO/1
A3: Head Summary 2026
A4: Name of Institution: | C4: Minister of Agriculture | E4: Head | F4: 314
B7: Month | C7: Description | D7: Dr. | E7: Cr.
B8: 2026.01.01 | C8: Balance B/F | E8: 1745849.3
B9: January | C9: Summary | D9: 1641804.8 | E9: 1250
B10: February | C10: Summary | D10: 0 | E10: 19823.75
B11: March | C11: Summary | D11: 119858.25 | E11: 220247.55
B12: April | C12: Summary | D12: 393992.3 | E12: 575466.25
B13: May | C13: Summary | D13: 62337 | E13: 1202751.5
B14: June | C14: Summary | D14: 878649 | E14: 562112
B15: July | C15: Summary | D15: 1403449.9 | E15: 1692128
B16: August | C16: Summary | D16: 1449722.7 | E16: 2085901.4
B17: September | C17: Summary | D17: 1030400.8 | E17: 2725615.4
B18: October | C18: Summary
B19: November | C19: Summary
B20: December | C20: Summary
B21: Transfer order
B23: 2026.12.31 Balance C/F | D23: =D24-SUM(D8:D22) -> 3850930.5 | E23: =E24-SUM(E8:E22) -> 0
B24: Grand Total | D24: =IF(SUM(E8:E22)>SUM(D8:D22),SUM(E8:E22),SUM(D8:D22)) -> 10831145 | E24: =IF(SUM(F8:F22)>SUM(E8:E22),SUM(F8:F22),SUM(E8:E22)) -> 10831145
B25: 2027.01.01 Balance B/F | D25: =E23 -> 0 | E25: =D23 -> 3850930.5
A29: Prepared by :-
A30: Checked by :- | E30: P.P.D.Samantha
A31: Date :- | B31: 31.01.2026 | E31: Director of Accounts & Payments
E32: For Chief Secretary
E33: Southern province.
A39: ISSue No:01 | C39: Rev No:00 | E39: DOI:2012.10.01

Sheet 315
A1: Southern Provincial Council
A2: Deposit Account CSS/9/5/FO/1
A3: Head Summary 2026
A4: Name of Institution: | C4: Department of Agriculture | F4: 315
B7: Month | C7: Description | D7: Dr. | E7: Cr.
B8: 2026.01.01 | C8: Balance B/F | E8: 14327447
B9: January | C9: Summary | D9: 9261200.4 | E9: 10015133
B10: February | C10: Summary | D10: 2330363.1 | E10: 1665794
B11: March | C11: Summary | D11: 861966.38 | E11: 2500901.1
B12: April | C12: Summary | D12: 1344290.5 | E12: 629459.79
B13: May | C13: Summary | D13: 3606696.6 | E13: 330964.08
B14: June | C14: Summary | D14: 2131484.2 | E14: 403390.56
B15: July | C15: Summary | D15: 2479200.2 | E15: 2050805.9
B16: August | C16: Summary | D16: 1856704.1 | E16: 582338.09
B17: September | C17: Summary | D17: 432844.6 | E17: 1490300
B18: October | C18: Summary
B19: November | C19: Summary
B20: December | C20: Summary
B21: Transfer order
B23: 2026.12.31 Balance C/F | D23: =D24-SUM(D8:D22) -> 9691783.1 | E23: =E24-SUM(E8:E22) -> 0
B24: Grand Total | D24: =IF(SUM(E8:E22)>SUM(D8:D22),SUM(E8:E22),SUM(D8:D22)) -> 33996533 | E24: =IF(SUM(F8:F22)>SUM(E8:E22),SUM(F8:F22),SUM(E8:E22)) -> 33996533
B25: 2027.01.01 Balance B/F | D25: =E23 -> 0 | E25: =D23 -> 9691783.1
A29: Prepared by :-
A30: Checked by :- | D30: P.P.D.Samantha
A31: Date :- | B31: 31.01.2026 | D31: Director of Accounts & Payments ,
D32: For Chief Secretary,
D33: Southern province.
A39: ISSue No:01 | C39: Rev No:00 | E39: DOI:2012.10.01

Sheet 316
A1: Southern Provincial Council
A2: Deposit Account CSS/9/5/FO/1
A3: Head Summary 2026
A4: Name of Institution: | C4: Department of Irrigation | E4: Head | F4: 316
B7: Month | C7: Description | D7: Dr. | E7: Cr.
B8: 2026.01.01 | C8: Balance B/F | E8: 76096820
B9: January | C9: Summary | D9: 13056055 | E9: 17388335
B10: February | C10: Summary | D10: 8102161.8 | E10: 2216976.8
B11: March | C11: Summary | D11: 12294496 | E11: 12334133
B12: April | C12: Summary | D12: 9649551.9 | E12: 12072155
B13: May | C13: Summary | D13: 12275081 | E13: 6240998.1
B14: June | C14: Summary | D14: 7561062.2 | E14: 5442053.1
B15: July | C15: Summary | D15: 27447510 | E15: 22302526
B16: August | C16: Summary | D16: 5917108.6 | E16: 9355332.8
B17: September | C17: Summary | D17: 9897781.3 | E17: 9848654.4
B18: October | C18: Summary
B19: November | C19: Summary
B20: December | C20: Summary
B21: Transfer order
B23: 2026.12.31 Balance C/F | D23: =D24-SUM(D8:D22) -> 67097176 | E23: =E24-SUM(E8:E22) -> 0
B24: Grand Total | D24: =IF(SUM(E8:E22)>SUM(D8:D22),SUM(E8:E22),SUM(D8:D22)) -> 1.7329798e+08 | E24: =IF(SUM(F8:F22)>SUM(E8:E22),SUM(F8:F22),SUM(E8:E22)) -> 1.7329798e+08
B25: 2027.01.01 Balance B/F | D25: =E23 -> 0 | E25: =D23 -> 67097176
A29: Prepared by :-
A30: Checked by :- | D30: P.P.D.Samantha
A31: Date :- | B31: 31.01.2026 | D31: Director of Accounts & Payments ,
D32: For Chief Secretary,
D33: Southern province.
A39: ISSue No:01 | C39: Rev No:00 | E39: DOI:2012.10.01

Sheet 317
A1: Southern Provincial Council
A2: Deposit Account CSS/9/5/FO/1
A3: Head Summary 2026
A4: Name of Institution: | C4: Department of Co-orperative Development | F4: 317
B7: Month | C7: Description | D7: Dr. | E7: Cr.
B8: 2026.01.01 | C8: Balance B/F | E8: 240285
B9: January | C9: Summary | D9: 7460219.1 | E9: 68940964
B10: February | C10: Summary | D10: 39614593 | E10: 290432.23
B11: March | C11: Summary | D11: 4416977.9 | E11: 966137.86
B12: April | C12: Summary | D12: 3265626.8 | E12: 591168.61
B13: May | C13: Summary | D13: 8385900.5 | E13: 6730450.5
B14: June | C14: Summary | D14: 1386963.5 | E14: 1059428.5
B15: July | C15: Summary | D15: 907311.5 | E15: 746921.5
B16: August | C16: Summary | D16: 982152.47 | E16: 483702.47
B17: September | C17: Summary | D17: 1030081.8 | E17: 430231.5
B18: October | C18: Summary
B19: November | C19: Summary
B20: December | C20: Summary
B21: Transfer order
B23: 2026.12.31 Balance C/F | D23: =D24-SUM(D8:D22) -> 13029895 | E23: =E24-SUM(E8:E22) -> 0
B24: Grand Total | D24: =IF(SUM(E8:E22)>SUM(D8:D22),SUM(E8:E22),SUM(D8:D22)) -> 80479722 | E24: =IF(SUM(F8:F22)>SUM(E8:E22),SUM(F8:F22),SUM(E8:E22)) -> 80479722
B25: 2027.01.01 Balance B/F | D25: =E23 -> 0 | E25: =D23 -> 13029895
A29: Prepared by :-
A30: Checked by :- | D30: P.P.D.Samantha
A31: Date :- | B31: 31.01.2026 | D31: Director of Accounts & Payments ,
D32: For Chief Secretary,
D33: Southern province.
A39: ISSue No:01 | C39: Rev No:00 | E39: DOI:2012.10.01

Sheet 318
A1: Southern Provincial Council
A2: Deposit Account CSS/9/5/FO/1
A3: Head Summary 2026
A4: Name of Institution: | C4: Minister of Sports ,Youth affairs, | E4: Head | F4: 318
C5: Rural Development,Cultural…..
B7: Month | C7: Description | D7: Dr. | E7: Cr.
B8: 2026.01.01 | C8: Balance B/F | E8: 6487738.3
B9: January | C9: Summary | D9: 585829.9 | E9: 6815225
B10: February | C10: Summary | D10: 125520 | E10: 8075
B11: March | C11: Summary | D11: 47930 | E11: 8075
B12: April | C12: Summary | D12: 7522675 | E12: 7666100
B13: May | C13: Summary | D13: 0 | E13: 150225
B14: June | C14: Summary | D14: 46450 | E14: 10700
B15: July | C15: Summary | D15: 334711.16 | E15: 85335
B16: August | C16: Summary | D16: 596951.73 | E16: 1154025
B17: September | C17: Summary | D17: 958331.71 | E17: 242025
B18: October | C18: Summary
B19: November | C19: Summary
B20: December | C20: Summary
B21: Transfer order
B23: 2026.12.31 Balance C/F | D23: =D24-SUM(D8:D22) -> 12409124 | E23: =E24-SUM(E8:E22) -> 0
B24: Grand Total | D24: =IF(SUM(E8:E22)>SUM(D8:D22),SUM(E8:E22),SUM(D8:D22)) -> 22627523 | E24: =IF(SUM(F8:F22)>SUM(E8:E22),SUM(F8:F22),SUM(E8:E22)) -> 22627523
B25: 2027.01.01 Balance B/F | D25: =E23 -> 0 | E25: =D23 -> 12409124
A29: Prepared by :-
A30: Checked by :- | D30: P.P.D.Samantha
A31: Date :- | B31: 31.01.2026 | D31: Director of Accounts & Payments ,
D32: For Chief Secretary,
D33: Southern province.
A39: ISSue No:01 | C39: Rev No:00 | E39: DOI:2012.10.01

Sheet 319
A1: Southern Provincial Council
A2: Deposit Account CSS/9/5/FO/1
A3: Head Summary 2026
A4: Name of Institution: | C4: Department of Social Welfare | E4: Head | F4: 319
C5: Probation &Childcare Service
B7: Month | C7: Description | D7: Dr. | E7: Cr.
B8: 2026.01.01 | C8: Balance B/F | E8: 14787987
B9: January | C9: Summary | D9: 0 | E9: 8750
B10: February | C10: Summary | D10: 0 | E10: 391461.66
B11: March | C11: Summary | D11: 918453.55 | E11: 1506066.4
B12: April | C12: Summary | D12: 1418950.8 | E12: 792554.44
B13: May | C13: Summary | D13: 2236550.1 | E13: 454079.34
B14: June | C14: Summary | D14: 2554052.5 | E14: 1030062.2
B15: July | C15: Summary | D15: 2005086.1 | E15: 401595.4
B16: August | C16: Summary | D16: 983383.92 | E16: 3930253
B17: September | C17: Summary | D17: 2927926.6 | E17: 480017.65
B18: October | C18: Summary
B19: November | C19: Summary
B20: December | C20: Summary
B21: Transfer order
B23: 2026.12.31 Balance C/F | D23: =D24-SUM(D8:D22) -> 10738423 | E23: =E24-SUM(E8:E22) -> 0
B24: Grand Total | D24: =IF(SUM(E8:E22)>SUM(D8:D22),SUM(E8:E22),SUM(D8:D22)) -> 23782827 | E24: =IF(SUM(F8:F22)>SUM(E8:E22),SUM(F8:F22),SUM(E8:E22)) -> 23782827
B25: 2027.01.01 Balance B/F | D25: =E23 -> 0 | E25: =D23 -> 10738423
A29: Prepared by :-
A30: Checked by :- | D30: P.P.D.Samantha
A31: Date :- | B31: 31.01.2026 | D31: Director of Accounts & Payments ,
D32: For Chief Secretary,
D33: Southern province.
A39: ISSue No:01 | C39: Rev No:00 | E39: DOI:2012.10.01

Sheet 320
A1: Southern Provincial Council
A2: Deposit Account CSS/9/5/FO/1
A3: Head Summary 2026
A4: Name of Institution: | C4: Chief Secretary | D4: Head | E4: 320
B7: Month | C7: Description | D7: Dr. | E7: Cr.
B8: 2026.01.01 | C8: Balance B/F | E8: 5.3186143e+08
B9: January | C9: Summary | D9: 28652372 | E9: 90156707
B10: February | C10: Summary | D10: 42035567 | E10: 46470596
B11: March | C11: Summary | D11: 13925659 | E11: 7526338
B12: April | C12: Summary | D12: 10744159 | E12: 26398542
B13: May | C13: Summary | D13: 8097374.8 | E13: 77800423
B14: June | C14: Summary | D14: 20362307 | E14: 43544668
B15: July | C15: Summary | D15: 20197814 | E15: 42150125
B16: August | C16: Summary | D16: 8978943 | E16: 47814533
B17: September | C17: Summary | D17: 20275930 | E17: 49557456
B18: October | C18: Summary
B19: November | C19: Summary
B20: December | C20: Summary
B21: Transfer order
B23: 2026.12.31 Balance C/F | D23: =D24-SUM(D8:D22) -> 7.900107e+08 | E23: =E24-SUM(E8:E22) -> 0
B24: Grand Total | D24: =IF(SUM(E8:E22)>SUM(D8:D22),SUM(E8:E22),SUM(D8:D22)) -> 9.6328082e+08 | E24: =IF(SUM(F8:F22)>SUM(E8:E22),SUM(F8:F22),SUM(E8:E22)) -> 9.6328082e+08
B25: 2027.01.01 Balance B/F | D25: =E23 -> 0 | E25: =D23 -> 7.900107e+08
A29: Prepared by :-
A30: Checked by :- | D30: P.P.D.Samantha
A31: Date :- | B31: 31.01.2026 | D31: Director of Accounts & Payments ,
D32: For Chief Secretary,
D33: Southern province.
A39: ISSue No:01 | C39: Rev No:00 | E39: DOI:2012.10.01

Sheet 321
A1: Southern Provincial Council
A2: Deposit Account CSS/9/5/FO/1
A3: Head Summary 2026
A4: Name of Institution: | C4: Deputy Chief Sec. Planing | E4: Head | F4: 321
B7: Month | C7: Description | D7: Dr. | E7: Cr.
B8: 2026.01.01 | C8: Balance B/F | E8: 417693.79
B9: January | C9: Summary | D9: 0 | E9: 2525
B10: February | C10: Summary | D10: 0 | E10: 2550
B11: March | C11: Summary | D11: 418193.79 | E11: 3100
B12: April | C12: Summary | D12: 7675 | E12: 47600
B13: May | C13: Summary | D13: 0 | E13: 35162.5
B14: June | C14: Summary | D14: 0 | E14: 12600
B15: July | C15: Summary | D15: 7775 | E15: 62940.5
B16: August | C16: Summary | D16: 0 | E16: 100337.5
B17: September | C17: Summary | D17: 30000 | E17: 8600
B18: October | C18: Summary
B19: November | C19: Summary
B20: December | C20: Summary
B21: Transfer order
B23: 2026.12.31 Balance C/F | D23: =D24-SUM(D8:D22) -> 229465.5 | E23: =E24-SUM(E8:E22) -> 0
B24: Grand Total | D24: =IF(SUM(E8:E22)>SUM(D8:D22),SUM(E8:E22),SUM(D8:D22)) -> 693109.29 | E24: =IF(SUM(F8:F22)>SUM(E8:E22),SUM(F8:F22),SUM(E8:E22)) -> 693109.29
B25: 2027.01.01 Balance B/F | D25: =E23 -> 0 | E25: =D23 -> 229465.5
A29: Prepared by :-
A30: Checked by :- | D30: P.P.D.Samantha
A31: Date :- | B31: 31.01.2026 | D31: Director of Accounts & Payments ,
D32: For Chief Secretary,
D33: Southern province.
A39: ISSue No:01 | C39: Rev No:00 | E39: DOI:2012.10.01

Sheet 322
A1: Southern Provincial Council
A2: Deposit Account CSS/9/5/FO/1
A3: Head Summary 2026
A4: Name of Institution: | C4: Deputy Chief Sec. Eng.Service | E4: Head | F4: 322
B7: Month | C7: Description | D7: Dr. | E7: Cr.
B8: 2026.01.01 | C8: Balance B/F | E8: 21844116
B9: January | C9: Summary | D9: 408684.66 | E9: 4821064
B10: February | C10: Summary | D10: 6460944.2 | E10: 4867605.7
B11: March | C11: Summary | D11: 1789737.6 | E11: 2453367.2
B12: April | C12: Summary | D12: 2436560.1 | E12: 1152275
B13: May | C13: Summary | D13: 3094777.9 | E13: 1393148.4
B14: June | C14: Summary | D14: 1838239.4 | E14: 1361611.1
B15: July | C15: Summary | D15: 1250349.7 | E15: 2033449.2
B16: August | C16: Summary | D16: 1704915.5 | E16: 828368.9
B17: September | C17: Summary | D17: 4439494.6 | E17: 3836004.4
B18: October | C18: Summary
B19: November | C19: Summary
B20: December | C20: Summary
B21: Transfer order
B23: 2026.12.31 Balance C/F | D23: =D24-SUM(D8:D22) -> 21167306 | E23: =E24-SUM(E8:E22) -> 0
B24: Grand Total | D24: =IF(SUM(E8:E22)>SUM(D8:D22),SUM(E8:E22),SUM(D8:D22)) -> 44591010 | E24: =IF(SUM(F8:F22)>SUM(E8:E22),SUM(F8:F22),SUM(E8:E22)) -> 44591010
B25: 2027.01.01 Balance B/F | D25: =E23 -> 0 | E25: =D23 -> 21167306
A29: Prepared by :-
A30: Checked by :- | D30: P.P.D.Samantha
A31: Date :- | B31: 31.01.2026 | D31: Director of Accounts & Payments ,
D32: For Chief Secretary,
D33: Southern province.
A39: ISSue No:01 | C39: Rev No:00 | E39: DOI:2012.10.01

Sheet 323
A1: Southern Provincial Council
A2: Deposit Account CSS/9/5/FO/1
A3: Head Summary 2026
A4: Name of Institution: | C4: Internal Audit | E4: Head | F4: 323
B7: Month | C7: Description | D7: Dr. | E7: Cr.
B8: 2026.01.01 | C8: Balance B/F | E8: 0
B9: January | C9: Summary | D9: 0 | E9: 1900
B10: February | C10: Summary | D10: 0 | E10: 1925
B11: March | C11: Summary | D11: 0 | E11: 1375
B12: April | C12: Summary | D12: 5200 | E12: 1350
B13: May | C13: Summary | D13: 0 | E13: 1350
B14: June | C14: Summary | D14: 0 | E14: 1350
B15: July | C15: Summary | D15: 4050 | E15: 1350
B16: August | C16: Summary | D16: 0 | E16: 1350
B17: September | C17: Summary | D17: 0 | E17: 1325
B18: October | C18: Summary
B19: November | C19: Summary
B20: December | C20: Summary
B21: Transfer order
B23: 2026.12.31 Balance C/F | D23: =D24-SUM(D8:D22) -> 4025 | E23: =E24-SUM(E8:E22) -> 0
B24: Grand Total | D24: =IF(SUM(E8:E22)>SUM(D8:D22),SUM(E8:E22),SUM(D8:D22)) -> 13275 | E24: =IF(SUM(F8:F22)>SUM(E8:E22),SUM(F8:F22),SUM(E8:E22)) -> 13275 | O24: 0
B25: 2027.01.01 Balance B/F | D25: =E23 -> 0 | E25: =D23 -> 4025
A29: Prepared by :-
A30: Checked by :- | D30: P.P.D.Samantha
A31: Date :- | B31: 31.01.2026 | D31: Director of Accounts & Payments ,
D32: For Chief Secretary,
D33: Southern province.
A39: ISSue No:01 | C39: Rev No:00 | E39: DOI:2012.10.01

Sheet 324
A1: Southern Provincial Council
A2: Deposit Account CSS/9/5/FO/1
A3: Head Summary 2026
A4: Name of Institution: | C4: Department of Provincial Revenue | E4: Head : 324
B7: Month | C7: Description | D7: Dr. | E7: Cr.
B8: 2026.01.01 | C8: Balance B/F | E8: 47500420
B9: January | C9: Summary | D9: 248500 | E9: 15300337
B10: February | C10: Summary | D10: 10421380 | E10: 402025
B11: March | C11: Summary | D11: 37529093 | E11: 32896611
B12: April | C12: Summary | D12: 24937489 | E12: 24889227
B13: May | C13: Summary | D13: 100000 | E13: 2725375
B14: June | C14: Summary | D14: 30743264 | E14: 32445239
B15: July | C15: Summary | D15: 11630468 | E15: 12426468
B16: August | C16: Summary | D16: 16213975 | E16: 16215925
B17: September | C17: Summary | D17: 22586783 | E17: 22754733
B18: October | C18: Summary
B19: November | C19: Summary
B20: December | C20: Summary
B21: Transfer order
B23: 2025.12.31 Balance C/F | D23: =D24-SUM(D8:D22) -> 53145409 | E23: =E24-SUM(E8:E22) -> 0
B24: Grand Total | D24: =IF(SUM(E8:E22)>SUM(D8:D22),SUM(E8:E22),SUM(D8:D22)) -> 2.0755636e+08 | E24: =IF(SUM(F8:F22)>SUM(E8:E22),SUM(F8:F22),SUM(E8:E22)) -> 2.0755636e+08
B25: 2026.01.01 Balance B/F | D25: =E23 -> 0 | E25: =D23 -> 53145409
A29: Prepared by :-
A30: Checked by :- | D30: P.P.D.Samantha
A31: Date :- | B31: 31.01.2026 | D31: Director of Accounts & Payments ,
D32: For Chief Secretary,
D33: Southern province.
A39: ISSue No:01 | C39: Rev No:00 | E39: DOI:2012.10.01

Sheet 325
A1: Southern Provincial Council
A2: Deposit Account CSS/9/5/FO/1
A3: Head Summary 2026
A4: Name of Institution: | C4: Department of Motor Traffic | E4: Head | F4: 325
B7: Month | C7: Description | D7: Dr. | E7: Cr.
B8: 2026.01.01 | C8: Balance B/F | E8: 227100
B9: January | C9: Summary | D9: 7514983 | E9: 7500458
B10: February | C10: Summary | D10: 8622586 | E10: 8669691
B11: March | C11: Summary | D11: 6236663 | E11: 6162128
B12: April | C12: Summary | D12: 10528844 | E12: 10527894
B13: May | C13: Summary | D13: 7784940 | E13: 7765415
B14: June | C14: Summary | D14: 9553196 | E14: 9541671
B15: July | C15: Summary | D15: 8694258 | E15: 8693308
B16: August | C16: Summary | D16: 8220441 | E16: 8220916
B17: September | C17: Summary | D17: 8134071 | E17: 8133121
B18: October | C18: Summary
B19: November | C19: Summary
B20: December | C20: Summary
B21: Transfer order
B23: 2026.12.31 Balance C/F | D23: =D24-SUM(D8:D22) -> 151720 | E23: =E24-SUM(E8:E22) -> 0
B24: Grand Total | D24: =IF(SUM(E8:E22)>SUM(D8:D22),SUM(E8:E22),SUM(D8:D22)) -> 75441702 | E24: =IF(SUM(E8:E22)>SUM(D8:D22),SUM(E8:E22),SUM(D8:D22)) -> 75441702
B25: 2027.01.01 Balance B/F | D25: =E23 -> 0 | E25: =D23 -> 151720
A29: Prepared by :-
A30: Checked by :- | D30: P.P.D.Samantha
A31: Date :- | C31: 31.01.2025 | D31: Director of Accounts & Payments ,
D32: For Chief Secretary,
D33: Southern province.

Sheet Sheet1
A1: Southern Provincial Council
A2: Deposit Account
A3: Head Summary 2026
G4: (Rs.)
A5: Head | B5: Balance B/F 2026.01.01 | D5: Debit Amount | E5: Credit Amount | F5: Balance B/F 2026.12.31
B6: Dr. | C6: Cr. | F6: Dr. | G6: Cr.
A7: 300 | B7: =SUM('300'!$D$8) -> 0 | C7: ='300'!E8 -> 159780.31 | D7: =SUM('300'!$D$9:$D$22) -> 632233.67 | E7: =SUM('300'!$E$9:$E$22) -> 960512.49 | F7: =C7+E7-D7 -> 488059.13
A8: 301 | B8: =SUM('301'!$D$8) -> 0 | C8: ='301'!E8 -> 240545 | D8: =SUM('301'!$D$9:$D$22) -> 146200 | E8: =SUM('301'!$E$9:$E$22) -> 15607 | F8: =C8+E8-D8 -> 109952
A9: 302 | B9: =SUM('302'!$D$8) -> 0 | C9: ='302'!E8 -> 49616.38 | D9: =SUM('302'!$D$9:$D$22) -> 44975 | E9: =SUM('302'!$E$9:$E$22) -> 13265.8 | F9: =C9+E9-D9 -> 17907.18
A10: 303 | B10: =SUM('303'!$D$8) -> 0 | C10: ='303'!E8 -> 0 | D10: =SUM('303'!$D$9:$D$22) -> 2175 | E10: =SUM('303'!$E$9:$E$22) -> 2175 | F10: =C10+E10-D10 -> 0
A11: 304 | B11: =SUM('304'!$D$8) -> 0 | C11: ='304'!E8 -> 26000568 | D11: =SUM('304'!$D$9:$D$22) -> 15939507 | E11: =SUM('304'!$E$9:$E$22) -> 9845092.9 | F11: =C11+E11-D11 -> 19906153
A12: 305 | B12: =SUM('305'!$D$8) -> 0 | C12: ='305'!E8 -> 65746055 | D12: =SUM('305'!$D$9:$D$22) -> 8.3868369e+08 | E12: =SUM('305'!$E$9:$E$22) -> 8.5324461e+08 | F12: =C12+E12-D12 -> 80306977
A13: 306 | B13: =SUM('306'!$D$8) -> 0 | C13: ='306'!E8 -> 4695484.7 | D13: =SUM('306'!$D$9:$D$22) -> 94661315 | E13: =SUM('306'!$E$9:$E$22) -> 92662557 | F13: =C13+E13-D13 -> 2696727.1
A14: 307 | B14: =SUM('307'!$D$8) -> 0 | C14: ='307'!E8 -> 9653777.6 | D14: =SUM('307'!$D$9:$D$22) -> 10775163 | E14: =SUM('307'!$E$9:$E$22) -> 12121856 | F14: =C14+E14-D14 -> 11000471
A15: 308 | B15: =SUM('308'!$D$8) -> 0 | C15: ='308'!E8 -> 84127062 | D15: =SUM('308'!$D$9:$D$22) -> 47829907 | E15: =SUM('308'!$E$9:$E$22) -> 34615185 | F15: =C15+E15-D15 -> 70912340
A16: 309 | B16: =SUM('309'!$D$8) -> 0 | C16: ='309'!E8 -> 14983.3 | D16: =SUM('309'!$D$9:$D$22) -> 82058.3 | E16: =SUM('309'!$E$9:$E$22) -> 377575 | F16: =C16+E16-D16 -> 310500
A17: 310 | B17: =SUM('310'!$D$8) -> 0 | C17: ='310'!E8 -> 11218906 | D17: =SUM('310'!$D$9:$D$22) -> 28227708 | E17: =SUM('310'!$E$9:$E$22) -> 32952361 | F17: =C17+E17-D17 -> 15943558
A18: 311 | B18: =SUM('311'!$D$8) -> 0 | C18: ='311'!E8 -> 53576723 | D18: =SUM('311'!$D$9:$D$22) -> 28734974 | E18: =SUM('311'!$E$9:$E$22) -> 3524145.1 | F18: =C18+E18-D18 -> 28365894
A19: 312 | B19: =SUM('312'!$D$8) -> 0 | C19: ='312'!E8 -> 6899210.2 | D19: =SUM('312'!$D$9:$D$22) -> 23674054 | E19: =SUM('312'!$E$9:$E$22) -> 22398897 | F19: =C19+E19-D19 -> 5624053.1
A20: 313 | B20: =SUM('313'!$D$8) -> 0 | C20: ='313'!E8 -> 12699240 | D20: =SUM('313'!$D$9:$D$22) -> 40363770 | E20: =SUM('313'!$E$9:$E$22) -> 35865199 | F20: =C20+E20-D20 -> 8200670.1
A21: 314 | B21: =SUM('314'!$D$8) -> 0 | C21: ='314'!E8 -> 1745849.3 | D21: =SUM('314'!$D$9:$D$22) -> 6980214.7 | E21: =SUM('314'!$E$9:$E$22) -> 9085295.8 | F21: =C21+E21-D21 -> 3850930.5
A22: 315 | B22: =SUM('315'!$D$8) -> 0 | C22: ='315'!E8 -> 14327447 | D22: =SUM('315'!$D$9:$D$22) -> 24304750 | E22: =SUM('315'!$E$9:$E$22) -> 19669087 | F22: =C22+E22-D22 -> 9691783.1
A23: 316 | B23: =SUM('316'!$D$8) -> 0 | C23: ='316'!E8 -> 76096820 | D23: =SUM('316'!$D$9:$D$22) -> 1.0620081e+08 | E23: =SUM('316'!$E$9:$E$22) -> 97201164 | F23: =C23+E23-D23 -> 67097176
A24: 317 | B24: =SUM('317'!$D$8) -> 0 | C24: ='317'!E8 -> 240285 | D24: =SUM('317'!$D$9:$D$22) -> 67449827 | E24: =SUM('317'!$E$9:$E$22) -> 80239437 | F24: =C24+E24-D24 -> 13029895
A25: 318 | B25: =SUM('318'!$D$8) -> 0 | C25: ='318'!E8 -> 6487738.3 | D25: =SUM('318'!$D$9:$D$22) -> 10218400 | E25: =SUM('318'!$E$9:$E$22) -> 16139785 | F25: =C25+E25-D25 -> 12409124
A26: 319 | B26: =SUM('319'!$D$8) -> 0 | C26: ='319'!E8 -> 14787987 | D26: =SUM('319'!$D$9:$D$22) -> 13044404 | E26: =SUM('319'!$E$9:$E$22) -> 8994840.1 | F26: =C26+E26-D26 -> 10738423
A27: 320 | B27: =SUM('320'!$D$8) -> 0 | C27: ='320'!E8 -> 5.3186143e+08 | D27: =SUM('320'!$D$9:$D$22) -> 1.7327013e+08 | E27: =SUM('320'!$E$9:$E$22) -> 4.3141939e+08 | F27: =C27+E27-D27 -> 7.900107e+08
A28: 321 | B28: =SUM('321'!$D$8) -> 0 | C28: ='321'!E8 -> 417693.79 | D28: =SUM('321'!$D$9:$D$22) -> 463643.79 | E28: =SUM('321'!$E$9:$E$22) -> 275415.5 | F28: =C28+E28-D28 -> 229465.5
A29: 322 | B29: =SUM('322'!$D$8) -> 0 | C29: ='322'!E8 -> 21844116 | D29: =SUM('322'!$D$9:$D$22) -> 23423704 | E29: =SUM('322'!$E$9:$E$22) -> 22746894 | F29: =C29+E29-D29 -> 21167306
A30: 323 | B30: =SUM('323'!$D$8) -> 0 | C30: ='323'!E8 -> 0 | D30: =SUM('323'!$D$9:$D$22) -> 9250 | E30: =SUM('323'!$E$9:$E$22) -> 13275 | F30: =C30+E30-D30 -> 4025
A31: 324 | B31: =SUM('324'!$D$8) -> 0 | C31: ='324'!E8 -> 47500420 | D31: =SUM('324'!$D$9:$D$22) -> 1.5441095e+08 | E31: =SUM('324'!$E$9:$E$22) -> 1.6005594e+08 | F31: =C31+E31-D31 -> 53145409
A32: 325 | B32: ='325'!D8 -> 0 | C32: ='325'!E8 -> 227100 | D32: =SUM('325'!D9:D22) -> 75289982 | E32: =SUM('325'!E9:E22) -> 75214602 | F32: =C32+E32-D32 -> 151720
A33: Total | B33: =SUM(B7:B31) -> 0 | C33: =SUM(C7:C32) -> 9.9061884e+08 | D33: =SUM(D7:D32) -> 1.7848638e+09 | E33: =SUM(E7:E32) -> 2.0196542e+09 | F33: =SUM(F7:F32) -> 1.2254092e+09
A38: Prepared by :- | E38: P.P.D.Samantha
E39: Director of Accounts & Payments
A40: Checked by :- | E40: For Chief Secretary,
E41: Southern province.
A42: Date :- | C42: 31.01.2025

Sheet Sheet2
D1: DR | E1: CR | G1: 9.9061884e+08
C2: January | D2: =SUM('300:325'!D9) -> 1.4711341e+08 | E2: =SUM('300:325'!E9) -> 3.0840961e+08 | G2: =G1+E2-D2 -> 1.151915e+09
C3: February | D3: =SUM('300:325'!D10) -> 2.3436496e+08 | E3: =SUM('300:325'!E10) -> 1.9084155e+08 | G3: =G2+E3-D3 -> 1.1083916e+09
C4: March | D4: =SUM('300:325'!D11) -> 2.3543633e+08 | E4: =SUM('300:325'!E11) -> 1.9124509e+08 | G4: =G3+E4-D4 -> 1.0642004e+09
C5: April | D5: =SUM('300:325'!D12) -> 1.2334801e+08 | E5: =SUM('300:325'!E12) -> 1.3309226e+08 | G5: =G4+E5-D5 -> 1.0739446e+09
C6: May | D6: =SUM('300:325'!D13) -> 1.7459882e+08 | E6: =SUM('300:325'!E13) -> 2.2750116e+08 | G6: =G5+E6-D6 -> 1.126847e+09
C7: June | D7: =SUM('300:325'!D14) -> 2.1296249e+08 | E7: =SUM('300:325'!E14) -> 2.2447991e+08 | G7: =G6+E7-D7 -> 1.1383644e+09
C8: July | D8: =SUM('300:325'!D15) -> 2.2727238e+08 | E8: =SUM('300:325'!E15) -> 2.4046205e+08
C9: August | D9: =SUM('300:325'!D16) -> 1.7778955e+08 | E9: =SUM('300:325'!E16) -> 2.1114493e+08
C10: September | D10: =SUM('300:325'!D17) -> 2.5197783e+08 | E10: =SUM('300:325'!E17) -> 2.9247761e+08
C11: October | D11: =SUM('300:325'!D18) -> 0 | E11: =SUM('300:325'!E18) -> 0
C12: November | D12: =SUM('300:325'!D19) -> 0 | E12: =SUM('300:325'!E19) -> 0
C13: December | D13: =SUM('300:325'!D20) -> 0 | E13: =SUM('300:325'!E20) -> 0
D17: =SUM('300:324'!D26) -> 0 | E17: =SUM('300:324'!E26) -> 0
D18: =SUM('300:324'!D27) -> 0 | E18: =SUM('300:324'!E27) -> 0

Sheet Sheet3
